BEGIN:VCALENDAR
VERSION:2.0
PRODID:-//EL JAKIM | Gospelkoor | Zevenhuizen - ECPv6.15.20//NONSGML v1.0//EN
CALSCALE:GREGORIAN
METHOD:PUBLISH
X-WR-CALNAME:EL JAKIM | Gospelkoor | Zevenhuizen
X-ORIGINAL-URL:https://eljakim.info
X-WR-CALDESC:Evenementen voor EL JAKIM | Gospelkoor | Zevenhuizen
REFRESH-INTERVAL;VALUE=DURATION:PT1H
X-Robots-Tag:noindex
X-PUBLISHED-TTL:PT1H
BEGIN:VTIMEZONE
TZID:Europe/Paris
BEGIN:DAYLIGHT
TZOFFSETFROM:+0100
TZOFFSETTO:+0200
TZNAME:CEST
DTSTART:20210328T010000
END:DAYLIGHT
BEGIN:STANDARD
TZOFFSETFROM:+0200
TZOFFSETTO:+0100
TZNAME:CET
DTSTART:20211031T010000
END:STANDARD
BEGIN:DAYLIGHT
TZOFFSETFROM:+0100
TZOFFSETTO:+0200
TZNAME:CEST
DTSTART:20220327T010000
END:DAYLIGHT
BEGIN:STANDARD
TZOFFSETFROM:+0200
TZOFFSETTO:+0100
TZNAME:CET
DTSTART:20221030T010000
END:STANDARD
BEGIN:DAYLIGHT
TZOFFSETFROM:+0100
TZOFFSETTO:+0200
TZNAME:CEST
DTSTART:20230326T010000
END:DAYLIGHT
BEGIN:STANDARD
TZOFFSETFROM:+0200
TZOFFSETTO:+0100
TZNAME:CET
DTSTART:20231029T010000
END:STANDARD
BEGIN:DAYLIGHT
TZOFFSETFROM:+0100
TZOFFSETTO:+0200
TZNAME:CEST
DTSTART:20240331T010000
END:DAYLIGHT
BEGIN:STANDARD
TZOFFSETFROM:+0200
TZOFFSETTO:+0100
TZNAME:CET
DTSTART:20241027T010000
END:STANDARD
BEGIN:DAYLIGHT
TZOFFSETFROM:+0100
TZOFFSETTO:+0200
TZNAME:CEST
DTSTART:20250330T010000
END:DAYLIGHT
BEGIN:STANDARD
TZOFFSETFROM:+0200
TZOFFSETTO:+0100
TZNAME:CET
DTSTART:20251026T010000
END:STANDARD
BEGIN:DAYLIGHT
TZOFFSETFROM:+0100
TZOFFSETTO:+0200
TZNAME:CEST
DTSTART:20260329T010000
END:DAYLIGHT
BEGIN:STANDARD
TZOFFSETFROM:+0200
TZOFFSETTO:+0100
TZNAME:CET
DTSTART:20261025T010000
END:STANDARD
BEGIN:DAYLIGHT
TZOFFSETFROM:+0100
TZOFFSETTO:+0200
TZNAME:CEST
DTSTART:20270328T010000
END:DAYLIGHT
BEGIN:STANDARD
TZOFFSETFROM:+0200
TZOFFSETTO:+0100
TZNAME:CET
DTSTART:20271031T010000
END:STANDARD
END:VTIMEZONE
BEGIN:VEVENT
DTSTART;TZID=Europe/Paris:20260519T190000
DTEND;TZID=Europe/Paris:20260519T200000
DTSTAMP:20260421T134152
CREATED:20260413T183337Z
LAST-MODIFIED:20260413T184557Z
UID:2734-1779217200-1779220800@eljakim.info
SUMMARY:Zorgcentrum Zevenster
DESCRIPTION:
URL:https://eljakim.info/event/zorgcentrum-zevenster/
LOCATION:Zevenster\, Lavendel 14\, Zevenhuizen\, 2761 KJ
END:VEVENT
BEGIN:VEVENT
DTSTART;TZID=Europe/Paris:20260201T100000
DTEND;TZID=Europe/Paris:20260201T110000
DTSTAMP:20260421T134152
CREATED:20251110T125706Z
LAST-MODIFIED:20251110T130034Z
UID:2679-1769940000-1769943600@eljakim.info
SUMMARY:Morgendienst
DESCRIPTION:
URL:https://eljakim.info/event/chtenddienst/
LOCATION:Dorpskerk Zevenhuizen\, Dorpsstraat 170\, Zevenhuizen\, 2761AJ
END:VEVENT
BEGIN:VEVENT
DTSTART;TZID=Europe/Paris:20251224T220000
DTEND;TZID=Europe/Paris:20251224T230000
DTSTAMP:20260421T134152
CREATED:20251110T121206Z
LAST-MODIFIED:20251110T121537Z
UID:2674-1766613600-1766617200@eljakim.info
SUMMARY:Kerstnachtdienst
DESCRIPTION:
URL:https://eljakim.info/event/kerstnachtdienst/
LOCATION:Dorpskerk Bleiswijk\, Kerkstraat 4\, Bleiswijk
END:VEVENT
BEGIN:VEVENT
DTSTART;TZID=Europe/Paris:20250518T093000
DTEND;TZID=Europe/Paris:20250518T103000
DTSTAMP:20260421T134152
CREATED:20250514T193207Z
LAST-MODIFIED:20250514T193709Z
UID:2656-1747560600-1747564200@eljakim.info
SUMMARY:Zondagochtenddienst 9.30
DESCRIPTION:
URL:https://eljakim.info/event/zondagochtenddienst/
LOCATION:Ontmoetingskerk\, Dorpsstraat 106\, Zevenhuizen
END:VEVENT
BEGIN:VEVENT
DTSTART;TZID=Europe/Paris:20240915T100000
DTEND;TZID=Europe/Paris:20240915T110000
DTSTAMP:20260421T134152
CREATED:20240117T180044Z
LAST-MODIFIED:20240318T153504Z
UID:2441-1726394400-1726398000@eljakim.info
SUMMARY:Gereformeerde kerk Kockengen
DESCRIPTION:
URL:https://eljakim.info/event/gereformeerde-kerk-kockengen/
LOCATION:Kockengen\, Dreef 1\, Kockengen\, 3628 BH\, Nederland
END:VEVENT
BEGIN:VEVENT
DTSTART;TZID=Europe/Paris:20231225T100000
DTEND;TZID=Europe/Paris:20231225T120000
DTSTAMP:20260421T134152
CREATED:20240117T215228Z
LAST-MODIFIED:20240119T211819Z
UID:2462-1703498400-1703505600@eljakim.info
SUMMARY:1e Kerstdag morgendienst
DESCRIPTION:Kerstdienst\nOntmoetingskerk Zevenhuizen\,
URL:https://eljakim.info/event/1e-kerstdag-morgendienst/
LOCATION:Ontmoetingskerk\, Dorpsstraat 106\, Zevenhuizen
END:VEVENT
BEGIN:VEVENT
DTSTART;TZID=Europe/Paris:20231119T190000
DTEND;TZID=Europe/Paris:20231119T200000
DTSTAMP:20260421T134152
CREATED:20240117T181530Z
LAST-MODIFIED:20240117T181530Z
UID:2444-1700420400-1700424000@eljakim.info
SUMMARY:Opendeurdienst Bleiswijk
DESCRIPTION:
URL:https://eljakim.info/event/opendeurdienst-bleiswijk/
END:VEVENT
BEGIN:VEVENT
DTSTART;TZID=Europe/Paris:20231104T200000
DTEND;TZID=Europe/Paris:20231104T220000
DTSTAMP:20260421T134152
CREATED:20240107T152631Z
LAST-MODIFIED:20240112T154444Z
UID:1409-1699128000-1699135200@eljakim.info
SUMMARY:35 jarig jubileum concert "FREEDOM"
DESCRIPTION:Ons Jubileum concert
URL:https://eljakim.info/event/35-jarig-jubileumconcert-freedom/
ATTACH;FMTTYPE=image/jpeg:https://eljakim.info/wp-content/uploads/2024/01/freedom.jpg
END:VEVENT
BEGIN:VEVENT
DTSTART;TZID=Europe/Paris:20230202T110000
DTEND;TZID=Europe/Paris:20230202T120000
DTSTAMP:20260421T134152
CREATED:20240107T153222Z
LAST-MODIFIED:20240107T203354Z
UID:1421-1675335600-1675339200@eljakim.info
SUMMARY:P. G. Emmaüs Morgendienst
DESCRIPTION:
URL:https://eljakim.info/event/p-g-emmaus-morgendienst/
LOCATION:Bodegraven
ATTACH;FMTTYPE=image/jpeg:https://eljakim.info/wp-content/uploads/2024/01/emmaus.jpg
END:VEVENT
BEGIN:VEVENT
DTSTART;TZID=Europe/Paris:20230107T190000
DTEND;TZID=Europe/Paris:20230107T210000
DTSTAMP:20260421T134152
CREATED:20240107T151950Z
LAST-MODIFIED:20240112T154410Z
UID:1406-1673118000-1673125200@eljakim.info
SUMMARY:Dorpskerk Open Deur Dienst
DESCRIPTION:
URL:https://eljakim.info/event/dorpskerk-opendeurdienst/
LOCATION:Dorpskerk Bleiswijk\, Kerkstraat 4\, Bleiswijk
ATTACH;FMTTYPE=image/jpeg:https://eljakim.info/wp-content/uploads/2024/01/kerk_-l.jpg
END:VEVENT
BEGIN:VEVENT
DTSTART;TZID=Europe/Paris:20221225T100000
DTEND;TZID=Europe/Paris:20221225T120000
DTSTAMP:20260421T134152
CREATED:20240107T153305Z
LAST-MODIFIED:20240117T182120Z
UID:1424-1671962400-1671969600@eljakim.info
SUMMARY:Kerstochtenddienst
DESCRIPTION:In de kapel Oud Verlaat
URL:https://eljakim.info/event/kerstochtenddienst/
LOCATION:Kapel Oud Verlaat
ATTACH;FMTTYPE=image/jpeg:https://eljakim.info/wp-content/uploads/2024/01/kerk.jpg
END:VEVENT
BEGIN:VEVENT
DTSTART;TZID=Europe/Paris:20221217T200000
DTEND;TZID=Europe/Paris:20221217T220000
DTSTAMP:20260421T134152
CREATED:20240107T153539Z
LAST-MODIFIED:20240107T202738Z
UID:1427-1671307200-1671314400@eljakim.info
SUMMARY:Kerstconcert: Christmas s(w)ings again
DESCRIPTION:Gezamenlijk met “Crossroads“\n\n\n\n\nKerstconcert: Christmas s(w)ings again
URL:https://eljakim.info/event/kerstconcert-christmas-swings-again/
LOCATION:Ontmoetingskerk\, Dorpsstraat 106\, Zevenhuizen
ATTACH;FMTTYPE=image/jpeg:https://eljakim.info/wp-content/uploads/2024/01/ontmoetingskerk.jpg
END:VEVENT
END:VCALENDAR